BEGIN:VCALENDAR
VERSION:2.0
PRODID:-//thesavvyshooter.com - ECPv6.15.20//NONSGML v1.0//EN
CALSCALE:GREGORIAN
METHOD:PUBLISH
X-ORIGINAL-URL:https://thesavvyshooter.com
X-WR-CALDESC:Events for thesavvyshooter.com
REFRESH-INTERVAL;VALUE=DURATION:PT1H
X-Robots-Tag:noindex
X-PUBLISHED-TTL:PT1H
BEGIN:VTIMEZONE
TZID:America/Denver
BEGIN:DAYLIGHT
TZOFFSETFROM:-0700
TZOFFSETTO:-0600
TZNAME:MDT
DTSTART:20250309T090000
END:DAYLIGHT
BEGIN:STANDARD
TZOFFSETFROM:-0600
TZOFFSETTO:-0700
TZNAME:MST
DTSTART:20251102T080000
END:STANDARD
BEGIN:DAYLIGHT
TZOFFSETFROM:-0700
TZOFFSETTO:-0600
TZNAME:MDT
DTSTART:20260308T090000
END:DAYLIGHT
BEGIN:STANDARD
TZOFFSETFROM:-0600
TZOFFSETTO:-0700
TZNAME:MST
DTSTART:20261101T080000
END:STANDARD
BEGIN:DAYLIGHT
TZOFFSETFROM:-0700
TZOFFSETTO:-0600
TZNAME:MDT
DTSTART:20270314T090000
END:DAYLIGHT
BEGIN:STANDARD
TZOFFSETFROM:-0600
TZOFFSETTO:-0700
TZNAME:MST
DTSTART:20271107T080000
END:STANDARD
END:VTIMEZONE
BEGIN:VEVENT
DTSTART;TZID=America/Denver:20260321T090000
DTEND;TZID=America/Denver:20260321T173000
DTSTAMP:20260422T213758
CREATED:20251217T012603Z
LAST-MODIFIED:20251220T030313Z
UID:10000583-1774083600-1774114200@thesavvyshooter.com
SUMMARY:LADIES INTRODUCTION TO SHOOTING & CONCEALED CARRY- DAY 3
DESCRIPTION:
URL:https://thesavvyshooter.com/upcoming-classes/ladies-introduction-to-shooting-concealed-carry-mar-day-3/
LOCATION:SANDIA PARK NM\, SANDIA PARK\, NM\, 87047\, United States
ATTACH;FMTTYPE=image/jpeg:https://thesavvyshooter.com/wp-content/uploads/2024/08/savvy_shooter_-9_levels-1-scaled.jpg
END:VEVENT
END:VCALENDAR