BEGIN:VCALENDAR
VERSION:2.0
PRODID:-//thesavvyshooter.com - ECPv6.15.20//NONSGML v1.0//EN
CALSCALE:GREGORIAN
METHOD:PUBLISH
X-ORIGINAL-URL:https://thesavvyshooter.com
X-WR-CALDESC:Events for thesavvyshooter.com
REFRESH-INTERVAL;VALUE=DURATION:PT1H
X-Robots-Tag:noindex
X-PUBLISHED-TTL:PT1H
BEGIN:VTIMEZONE
TZID:America/Denver
BEGIN:DAYLIGHT
TZOFFSETFROM:-0700
TZOFFSETTO:-0600
TZNAME:MDT
DTSTART:20250309T090000
END:DAYLIGHT
BEGIN:STANDARD
TZOFFSETFROM:-0600
TZOFFSETTO:-0700
TZNAME:MST
DTSTART:20251102T080000
END:STANDARD
BEGIN:DAYLIGHT
TZOFFSETFROM:-0700
TZOFFSETTO:-0600
TZNAME:MDT
DTSTART:20260308T090000
END:DAYLIGHT
BEGIN:STANDARD
TZOFFSETFROM:-0600
TZOFFSETTO:-0700
TZNAME:MST
DTSTART:20261101T080000
END:STANDARD
BEGIN:DAYLIGHT
TZOFFSETFROM:-0700
TZOFFSETTO:-0600
TZNAME:MDT
DTSTART:20270314T090000
END:DAYLIGHT
BEGIN:STANDARD
TZOFFSETFROM:-0600
TZOFFSETTO:-0700
TZNAME:MST
DTSTART:20271107T080000
END:STANDARD
END:VTIMEZONE
BEGIN:VEVENT
DTSTART;TZID=America/Denver:20260513T090000
DTEND;TZID=America/Denver:20260513T173000
DTSTAMP:20260423T014041
CREATED:20251217T024900Z
LAST-MODIFIED:20251221T014243Z
UID:10000593-1778662800-1778693400@thesavvyshooter.com
SUMMARY:INTRODUCTION TO SHOOTING & CONCEALED CARRY- DAY 2
DESCRIPTION:Each day of this BEGINNER PISTOL SHOOTING CLASS is a fun-filled time of camaraderie and education.  You begin each day  in the classroom\, where you will learn how to become a confident and accurate shooter.\nWe STRESS  the four rules of gun safety before heading to the range. At the range you will shoot a variety of both revolvers and semi-automatic pistols with individual instruction. Start with light-recoiling .22 rimfire pistols.\nThis is a very thorough BEGINNER CLASS.  Our Graduates who have taken other classes tell us that they learned much more than in their previous classes.\nA notebook with all classroom material is included for your continued review DURING AND AFTER  the course.\nWE PROVIDE GUNS\, AMMO (for sessions 1 – 3)\, EYE & EAR PROTECTION\, TARGETS and\, the CCL application forms and rules and qualification shoot for the NM Concealed Carry License.\nDoes Not Include $15 Range Fees EACH DAY\nSTUDENTS PROVIDE ONE 50 ROUND BOX OF AMMO PER CALIBER FOR THE QUALIFICATION SHOOT ON DAY 3 & 4 \n  \nIF YOU HAVE ISSUES PURCHASING THIS CLASS >> CALL US 505-239-9494 \nFOR MORE INFORMATION GO TO OUR HOMEPAGE >> thesavvyshooter.com
URL:https://thesavvyshooter.com/upcoming-classes/introduction-to-shooting-concealed-carry-day-2/
LOCATION:SANDIA PARK NM\, SANDIA PARK\, NM\, 87047\, United States
CATEGORIES:BEGINNER SHOOTING CLASS,CONCEALED CARRY CLASS
ATTACH;FMTTYPE=image/png:https://thesavvyshooter.com/wp-content/uploads/2024/08/coed.png
END:VEVENT
END:VCALENDAR