BEGIN:VCALENDAR
VERSION:2.0
PRODID:-//thesavvyshooter.com - ECPv6.15.20//NONSGML v1.0//EN
CALSCALE:GREGORIAN
METHOD:PUBLISH
X-ORIGINAL-URL:https://thesavvyshooter.com
X-WR-CALDESC:Events for thesavvyshooter.com
REFRESH-INTERVAL;VALUE=DURATION:PT1H
X-Robots-Tag:noindex
X-PUBLISHED-TTL:PT1H
BEGIN:VTIMEZONE
TZID:America/Denver
BEGIN:DAYLIGHT
TZOFFSETFROM:-0700
TZOFFSETTO:-0600
TZNAME:MDT
DTSTART:20240310T090000
END:DAYLIGHT
BEGIN:STANDARD
TZOFFSETFROM:-0600
TZOFFSETTO:-0700
TZNAME:MST
DTSTART:20241103T080000
END:STANDARD
BEGIN:DAYLIGHT
TZOFFSETFROM:-0700
TZOFFSETTO:-0600
TZNAME:MDT
DTSTART:20250309T090000
END:DAYLIGHT
BEGIN:STANDARD
TZOFFSETFROM:-0600
TZOFFSETTO:-0700
TZNAME:MST
DTSTART:20251102T080000
END:STANDARD
BEGIN:DAYLIGHT
TZOFFSETFROM:-0700
TZOFFSETTO:-0600
TZNAME:MDT
DTSTART:20260308T090000
END:DAYLIGHT
BEGIN:STANDARD
TZOFFSETFROM:-0600
TZOFFSETTO:-0700
TZNAME:MST
DTSTART:20261101T080000
END:STANDARD
END:VTIMEZONE
BEGIN:VEVENT
DTSTART;TZID=America/Denver:20251023T090000
DTEND;TZID=America/Denver:20251023T173000
DTSTAMP:20260423T044605
CREATED:20250508T213553Z
LAST-MODIFIED:20250508T213553Z
UID:10000551-1761210000-1761240600@thesavvyshooter.com
SUMMARY:INTRODUCTION TO SHOOTING & CONCEALED CARRY- DAY 2
DESCRIPTION:
URL:https://thesavvyshooter.com/upcoming-classes/intro-day-2-oct/
LOCATION:SANDIA PARK NM\, SANDIA PARK\, NM\, 87047\, United States
END:VEVENT
BEGIN:VEVENT
DTSTART;TZID=America/Denver:20251024T090000
DTEND;TZID=America/Denver:20251024T173000
DTSTAMP:20260423T044605
CREATED:20250508T204027Z
LAST-MODIFIED:20250508T211354Z
UID:10000533-1761296400-1761327000@thesavvyshooter.com
SUMMARY:New Mexico 2-DAY CONCEALED CARRY CLASS - DAY 2
DESCRIPTION:
URL:https://thesavvyshooter.com/upcoming-classes/2-day-ccl-oct-day-2/
LOCATION:SANDIA PARK NM\, SANDIA PARK\, NM\, 87047\, United States
END:VEVENT
BEGIN:VEVENT
DTSTART;TZID=America/Denver:20251025T120000
DTEND;TZID=America/Denver:20251025T150000
DTSTAMP:20260423T044605
CREATED:20250813T171755Z
LAST-MODIFIED:20250813T171755Z
UID:10000552-1761393600-1761404400@thesavvyshooter.com
SUMMARY:New Mexico CONCEALED CARRY 2-YEAR REFRESHER CLASS
DESCRIPTION:New Mexico CONCEALED CARRY LICENSEES ARE REQUIRED TO ACCOMPLISH 2-HOURS OF REFRESHER TRAINING. THIS TRAINING MUST OCCUR NEAR THE 2-YEAR ANNIVERSARY OF THE LICENSE ISSUE DATE. \nHANDOUTS WITH REFRESHER MATERIAL WILL BE GIVEN TO STUDENTS AND DISCUSSED PRIOR TO LEAVING FOR  THE RANGE.  STUDENTS WILL SHOOT THE SAME QUALIFICATION THAT THEY DID TO GET THE LICENSE INITIALLY. \nYOU MUST SHOOT THE SAME GUN TYPE (REVOLVER OR SEMIAUTO) AND CALIBER AS IS ON YOUR LICENSE. \nBRING 50 ROUNDS OF AMMUNITION FOR EACH CALIBER THAT YOU WISH TO SHOOT. \nIF YOU HAVE PROBLEMS PURCHASING THIS CLASS PLEASE CALL US AT >> 505-239-9494 \nCLASS FEE DOES NOT INCLUDE $15 RANGE FEE
URL:https://thesavvyshooter.com/upcoming-classes/new-mexico-concealed-carry-2-year-refresher-class/
LOCATION:SANDIA PARK NM\, SANDIA PARK\, NM\, 87047\, United States
CATEGORIES:2-YEAR CCL REFRESHER,CONCEALED CARRY CLASS
ATTACH;FMTTYPE=image/jpeg:https://thesavvyshooter.com/wp-content/uploads/2024/10/SavvyShooter_Small-Logo2023.jpeg
END:VEVENT
BEGIN:VEVENT
DTSTART;TZID=America/Denver:20251025T120000
DTEND;TZID=America/Denver:20251025T163000
DTSTAMP:20260423T044605
CREATED:20250813T172042Z
LAST-MODIFIED:20250813T172042Z
UID:10000553-1761393600-1761409800@thesavvyshooter.com
SUMMARY:NEW MEXICO CCL 4-YEAR RENEWAL CLASS
DESCRIPTION:Renew NM Concealed Carry License. RENEW CCL.   New Mexico requires most Concealed Carry Licensees to renew their licenses at the 4-year mark.  A MINIMUM 4 hours of instruction to include the reshoot of the qualification are required. \nPlease bring a 50-round box of ammunition for each caliber with which you plan to qualify and your gun(s).  renew ccl. \nDOES NOT INCLUDE $15 RANGE FEE \nINCLUDES A FOLDER WITH ALL CLASSROOM MATERIAL. \nNew Mexico RULES AND FORMS PROVIDED. \nI furnish you an OFFICIAL completion certificate by email that you submit to DPS with your renewal application. \nWe also submit required report to DPS. \nIF YOU HAVE PROBLEMS PURCHASING THIS CLASS PLEASE CALL US AT >> 505-239-9494 \nFOR MORE INFORMATION ON New Mexico CONCEALED CARRY REGULATIONS\, SEE: https://www.dps.nm.gov/top-links-for-nm-residents/concealed-carry-licenses \nDO YOU NEED BASIC FIREARMS TRAINING AND A CONCEALED CARRY LICENSE?  SEE OUR HOMEPAGE.     https://thesavvyshooter.com
URL:https://thesavvyshooter.com/upcoming-classes/new-mexico-ccl-4-year-renewal-class/
LOCATION:SANDIA PARK NM\, SANDIA PARK\, NM\, 87047\, United States
CATEGORIES:4-YEAR CCL RENEWAL,CONCEALED CARRY CLASS
ATTACH;FMTTYPE=image/jpeg:https://thesavvyshooter.com/wp-content/uploads/2024/10/SavvyShooter_Small-Logo2023.jpeg
END:VEVENT
END:VCALENDAR