BEGIN:VCALENDAR
VERSION:2.0
PRODID:-//thesavvyshooter.com - ECPv6.15.20//NONSGML v1.0//EN
CALSCALE:GREGORIAN
METHOD:PUBLISH
X-ORIGINAL-URL:https://thesavvyshooter.com
X-WR-CALDESC:Events for thesavvyshooter.com
REFRESH-INTERVAL;VALUE=DURATION:PT1H
X-Robots-Tag:noindex
X-PUBLISHED-TTL:PT1H
BEGIN:VTIMEZONE
TZID:America/Denver
BEGIN:DAYLIGHT
TZOFFSETFROM:-0700
TZOFFSETTO:-0600
TZNAME:MDT
DTSTART:20240310T090000
END:DAYLIGHT
BEGIN:STANDARD
TZOFFSETFROM:-0600
TZOFFSETTO:-0700
TZNAME:MST
DTSTART:20241103T080000
END:STANDARD
BEGIN:DAYLIGHT
TZOFFSETFROM:-0700
TZOFFSETTO:-0600
TZNAME:MDT
DTSTART:20250309T090000
END:DAYLIGHT
BEGIN:STANDARD
TZOFFSETFROM:-0600
TZOFFSETTO:-0700
TZNAME:MST
DTSTART:20251102T080000
END:STANDARD
BEGIN:DAYLIGHT
TZOFFSETFROM:-0700
TZOFFSETTO:-0600
TZNAME:MDT
DTSTART:20260308T090000
END:DAYLIGHT
BEGIN:STANDARD
TZOFFSETFROM:-0600
TZOFFSETTO:-0700
TZNAME:MST
DTSTART:20261101T080000
END:STANDARD
END:VTIMEZONE
BEGIN:VEVENT
DTSTART;TZID=America/Denver:20251204T090000
DTEND;TZID=America/Denver:20251204T173000
DTSTAMP:20260423T032121
CREATED:20250508T212025Z
LAST-MODIFIED:20251114T210030Z
UID:10000546-1764838800-1764869400@thesavvyshooter.com
SUMMARY:INTRODUCTION TO SHOOTING & CONCEALED CARRY- DAY 1
DESCRIPTION:Each day of this BEGINNER PISTOL SHOOTING CLASS is a fun-filled time of camaraderie and education.  You begin each day  in the classroom\, where you will learn how to become a confident and accurate shooter.\nWe STRESS  the four rules of gun safety before heading to the range. At the range you will shoot a variety of both revolvers and semi-automatic pistols with individual instruction. Start with light-recoiling .22 rimfire pistols.\nThis is a very thorough BEGINNER CLASS.  Our Graduates who have taken other classes tell us that they learned much more than in their previous classes.\nA notebook with all classroom material is included for your continued review DURING AND AFTER  the course.\nWE PROVIDE GUNS\, AMMO (for sessions 1 – 3)\, EYE & EAR PROTECTION\, TARGETS and\, the CCL application forms and rules and qualification shoot for the NM Concealed Carry License.\nDoes Not Include $15 Range Fees EACH DAY\nSTUDENTS PROVIDE ONE 50 ROUND BOX OF AMMO PER CALIBER FOR THE QUALIFICATION SHOOT ON DAY 3 & 4 \n  \nIF YOU HAVE ISSUES PURCHASING THIS CLASS >> CALL US 505-239-9494 \nFOR MORE INFORMATION GO TO OUR HOMEPAGE >> thesavvyshooter.com
URL:https://thesavvyshooter.com/upcoming-classes/intro-dec-day-1/
LOCATION:SANDIA PARK NM\, SANDIA PARK\, NM\, 87047\, United States
CATEGORIES:BEGINNER SHOOTING CLASS,CONCEALED CARRY CLASS
ATTACH;FMTTYPE=image/jpeg:https://thesavvyshooter.com/wp-content/uploads/2024/10/SavvyShooter_Small-Logo2023.jpeg
END:VEVENT
BEGIN:VEVENT
DTSTART;TZID=America/Denver:20251205T090000
DTEND;TZID=America/Denver:20251205T173000
DTSTAMP:20260423T032121
CREATED:20250508T202934Z
LAST-MODIFIED:20250508T212301Z
UID:10000529-1764925200-1764955800@thesavvyshooter.com
SUMMARY:INTRODUCTION TO SHOOTING & CONCEALED CARRY- DAY 2
DESCRIPTION:
URL:https://thesavvyshooter.com/upcoming-classes/intro-dec-day-2/
LOCATION:SANDIA PARK NM\, SANDIA PARK\, NM\, 87047\, United States
END:VEVENT
BEGIN:VEVENT
DTSTART;TZID=America/Denver:20251211T090000
DTEND;TZID=America/Denver:20251211T173000
DTSTAMP:20260423T032121
CREATED:20250508T212450Z
LAST-MODIFIED:20250508T212536Z
UID:10000547-1765443600-1765474200@thesavvyshooter.com
SUMMARY:INTRODUCTION TO SHOOTING & CONCEALED CARRY- DAY 3
DESCRIPTION:
URL:https://thesavvyshooter.com/upcoming-classes/intro-dec-day-3/
LOCATION:SANDIA PARK NM\, SANDIA PARK\, NM\, 87047\, United States
END:VEVENT
BEGIN:VEVENT
DTSTART;TZID=America/Denver:20251212T090000
DTEND;TZID=America/Denver:20251212T173000
DTSTAMP:20260423T032121
CREATED:20250508T212711Z
LAST-MODIFIED:20250508T212711Z
UID:10000548-1765530000-1765560600@thesavvyshooter.com
SUMMARY:INTRODUCTION TO SHOOTING & CONCEALED CARRY- DAY 4
DESCRIPTION:
URL:https://thesavvyshooter.com/upcoming-classes/intro-dec-day-4/
LOCATION:SANDIA PARK NM\, SANDIA PARK\, NM\, 87047\, United States
END:VEVENT
BEGIN:VEVENT
DTSTART;TZID=America/Denver:20251213T120000
DTEND;TZID=America/Denver:20251213T150000
DTSTAMP:20260423T032121
CREATED:20250508T213016Z
LAST-MODIFIED:20251118T004737Z
UID:10000549-1765627200-1765638000@thesavvyshooter.com
SUMMARY:New Mexico CONCEALED CARRY 2-YEAR REFRESHER CLASS
DESCRIPTION:New Mexico CONCEALED CARRY LICENSEES ARE REQUIRED TO ACCOMPLISH 2-HOURS OF REFRESHER TRAINING. THIS TRAINING MUST OCCUR NEAR THE 2-YEAR ANNIVERSARY OF THE LICENSE ISSUE DATE. \nHANDOUTS WITH REFRESHER MATERIAL WILL BE GIVEN TO STUDENTS AND DISCUSSED PRIOR TO LEAVING FOR  THE RANGE.  STUDENTS WILL SHOOT THE SAME QUALIFICATION THAT THEY DID TO GET THE LICENSE INITIALLY. \nYOU MUST SHOOT THE SAME GUN TYPE (REVOLVER OR SEMIAUTO) AND CALIBER AS IS ON YOUR LICENSE. \nBRING 50 ROUNDS OF AMMUNITION FOR EACH CALIBER THAT YOU WISH TO SHOOT. \nIF YOU HAVE PROBLEMS PURCHASING THIS CLASS PLEASE CALL US AT >> 505-239-9494 \nCLASS FEE DOES NOT INCLUDE $15 RANGE FEE
URL:https://thesavvyshooter.com/upcoming-classes/2-yr-ccl-dec/
LOCATION:SANDIA PARK NM\, SANDIA PARK\, NM\, 87047\, United States
CATEGORIES:2-YEAR CCL REFRESHER,CONCEALED CARRY CLASS
ATTACH;FMTTYPE=image/jpeg:https://thesavvyshooter.com/wp-content/uploads/2024/10/SavvyShooter_Small-Logo2023.jpeg
END:VEVENT
BEGIN:VEVENT
DTSTART;TZID=America/Denver:20251213T120000
DTEND;TZID=America/Denver:20251213T163000
DTSTAMP:20260423T032121
CREATED:20250508T213258Z
LAST-MODIFIED:20250508T213258Z
UID:10000550-1765627200-1765643400@thesavvyshooter.com
SUMMARY:NEW MEXICO CCL 4-YEAR RENEWAL CLASS
DESCRIPTION:Renew NM Concealed Carry License. RENEW CCL.   New Mexico requires most Concealed Carry Licensees to renew their licenses at the 4-year mark.  A MINIMUM 4 hours of instruction to include the reshoot of the qualification are required. \nPlease bring a 50-round box of ammunition for each caliber with which you plan to qualify and your gun(s).  renew ccl. \nDOES NOT INCLUDE $17  RANGE FEE \nINCLUDES A FOLDER WITH ALL CLASSROOM MATERIAL. \nNew Mexico RULES AND FORMS PROVIDED. \nI furnish you an OFFICIAL completion certificate by email that you submit to DPS with your renewal application. \nWe also submit required report to DPS. \nIF YOU HAVE PROBLEMS PURCHASING THIS CLASS PLEASE CALL US AT >> 505-239-9494 \nFOR MORE INFORMATION ON New Mexico CONCEALED CARRY REGULATIONS\, SEE: https://www.dps.nm.gov/top-links-for-nm-residents/concealed-carry-licenses \nDO YOU NEED BASIC FIREARMS TRAINING AND A CONCEALED CARRY LICENSE?  SEE OUR HOMEPAGE.     https://thesavvyshooter.com
URL:https://thesavvyshooter.com/upcoming-classes/4-year-dec-class/
LOCATION:SANDIA PARK NM\, SANDIA PARK\, NM\, 87047\, United States
CATEGORIES:4-YEAR CCL RENEWAL,CONCEALED CARRY CLASS
ATTACH;FMTTYPE=image/jpeg:https://thesavvyshooter.com/wp-content/uploads/2024/10/SavvyShooter_Small-Logo2023.jpeg
END:VEVENT
BEGIN:VEVENT
DTSTART;TZID=America/Denver:20251218T110000
DTEND;TZID=America/Denver:20251218T163000
DTSTAMP:20260423T032121
CREATED:20251110T211148Z
LAST-MODIFIED:20251110T211148Z
UID:10000557-1766055600-1766075400@thesavvyshooter.com
SUMMARY:SKILLS BUILDER
DESCRIPTION: So\, you have your concealed carry license but your confidence in your shooting skills is a bit low? \nWell\, we have a series of on-the-range workshops just for YOU! \nThe series consists of 5 levels.  Each one requires more skill. \n\nStart out shooting paper plates at 15 feet distance\, at your own pace.\nNext\, learn to shoot with both the left- and right- trigger finger (but 2-handed).  \nAs you proceed through the remaining levels you will learn to shoot faster\, and shoot one-handed (left and right).\nWork through the 5 levels at your own pace.\nEach skill builder workshop is 2-3 hours long.\nShoot any caliber from .22  to .45.  You provide the ammo (150 – 200 rounds typically.)  \nWe have shot the 5 levels and can attest that if you finish all 5 levels you will be a much more skilled and confident shooter.\nEarn a distinctive medal when you complete a level.
URL:https://thesavvyshooter.com/upcoming-classes/skills-builder-dec/
LOCATION:Albuquerque Shooting Range Park\, 16001 SHOOTING RANGE RD NW\, Albuquerque\, NM\, 87120\, United States
CATEGORIES:INTERMEDIATE SHOOTER,SKILLS BUILDER
ATTACH;FMTTYPE=image/jpeg:https://thesavvyshooter.com/wp-content/uploads/2024/10/SavvyShooter_Small-Logo2023.jpeg
END:VEVENT
END:VCALENDAR