BEGIN:VCALENDAR
VERSION:2.0
PRODID:-//thesavvyshooter.com - ECPv6.15.20//NONSGML v1.0//EN
CALSCALE:GREGORIAN
METHOD:PUBLISH
X-ORIGINAL-URL:https://thesavvyshooter.com
X-WR-CALDESC:Events for thesavvyshooter.com
REFRESH-INTERVAL;VALUE=DURATION:PT1H
X-Robots-Tag:noindex
X-PUBLISHED-TTL:PT1H
BEGIN:VTIMEZONE
TZID:America/Denver
BEGIN:DAYLIGHT
TZOFFSETFROM:-0700
TZOFFSETTO:-0600
TZNAME:MDT
DTSTART:20240310T090000
END:DAYLIGHT
BEGIN:STANDARD
TZOFFSETFROM:-0600
TZOFFSETTO:-0700
TZNAME:MST
DTSTART:20241103T080000
END:STANDARD
BEGIN:DAYLIGHT
TZOFFSETFROM:-0700
TZOFFSETTO:-0600
TZNAME:MDT
DTSTART:20250309T090000
END:DAYLIGHT
BEGIN:STANDARD
TZOFFSETFROM:-0600
TZOFFSETTO:-0700
TZNAME:MST
DTSTART:20251102T080000
END:STANDARD
BEGIN:DAYLIGHT
TZOFFSETFROM:-0700
TZOFFSETTO:-0600
TZNAME:MDT
DTSTART:20260308T090000
END:DAYLIGHT
BEGIN:STANDARD
TZOFFSETFROM:-0600
TZOFFSETTO:-0700
TZNAME:MST
DTSTART:20261101T080000
END:STANDARD
BEGIN:DAYLIGHT
TZOFFSETFROM:-0700
TZOFFSETTO:-0600
TZNAME:MDT
DTSTART:20270314T090000
END:DAYLIGHT
BEGIN:STANDARD
TZOFFSETFROM:-0600
TZOFFSETTO:-0700
TZNAME:MST
DTSTART:20271107T080000
END:STANDARD
END:VTIMEZONE
BEGIN:VEVENT
DTSTART;TZID=America/Denver:20260319T110000
DTEND;TZID=America/Denver:20260319T163000
DTSTAMP:20260423T014234
CREATED:20260130T012638Z
LAST-MODIFIED:20260130T012638Z
UID:10000646-1773918000-1773937800@thesavvyshooter.com
SUMMARY:SKILLS BUILDER
DESCRIPTION: So\, you have your concealed carry license but your confidence in your shooting skills is a bit low? \nWell\, we have a series of on-the-range workshops just for YOU! \nThe series consists of 5 levels.  Each one requires more skill. \n\nStart out shooting paper plates at 15 feet distance\, at your own pace.\nNext\, learn to shoot with both the left- and right- trigger finger (but 2-handed).  \nAs you proceed through the remaining levels you will learn to shoot faster\, and shoot one-handed (left and right).\nWork through the 5 levels at your own pace.\nEach skill builder workshop is 2-3 hours long.\nShoot any caliber from .22  to .45.  You provide the ammo (150 – 200 rounds typically.)  \nWe have shot the 5 levels and can attest that if you finish all 5 levels you will be a much more skilled and confident shooter.\nEarn a distinctive medal when you complete a level.
URL:https://thesavvyshooter.com/upcoming-classes/skills-builder-march19/
LOCATION:Albuquerque Shooting Range Park\, 16001 SHOOTING RANGE RD NW\, Albuquerque\, NM\, 87120\, United States
CATEGORIES:INTERMEDIATE SHOOTER,SKILLS BUILDER
ATTACH;FMTTYPE=image/png:https://thesavvyshooter.com/wp-content/uploads/2024/08/sbw.png
END:VEVENT
BEGIN:VEVENT
DTSTART;TZID=America/Denver:20260312T110000
DTEND;TZID=America/Denver:20260312T163000
DTSTAMP:20260423T014234
CREATED:20260130T012411Z
LAST-MODIFIED:20260130T012411Z
UID:10000645-1773313200-1773333000@thesavvyshooter.com
SUMMARY:SKILLS BUILDER
DESCRIPTION: So\, you have your concealed carry license but your confidence in your shooting skills is a bit low? \nWell\, we have a series of on-the-range workshops just for YOU! \nThe series consists of 5 levels.  Each one requires more skill. \n\nStart out shooting paper plates at 15 feet distance\, at your own pace.\nNext\, learn to shoot with both the left- and right- trigger finger (but 2-handed).  \nAs you proceed through the remaining levels you will learn to shoot faster\, and shoot one-handed (left and right).\nWork through the 5 levels at your own pace.\nEach skill builder workshop is 2-3 hours long.\nShoot any caliber from .22  to .45.  You provide the ammo (150 – 200 rounds typically.)  \nWe have shot the 5 levels and can attest that if you finish all 5 levels you will be a much more skilled and confident shooter.\nEarn a distinctive medal when you complete a level.
URL:https://thesavvyshooter.com/upcoming-classes/skills-builder-mar12/
LOCATION:Albuquerque Shooting Range Park\, 16001 SHOOTING RANGE RD NW\, Albuquerque\, NM\, 87120\, United States
CATEGORIES:INTERMEDIATE SHOOTER,SKILLS BUILDER
ATTACH;FMTTYPE=image/png:https://thesavvyshooter.com/wp-content/uploads/2024/08/sbw.png
END:VEVENT
BEGIN:VEVENT
DTSTART;TZID=America/Denver:20260305T110000
DTEND;TZID=America/Denver:20260305T163000
DTSTAMP:20260423T014234
CREATED:20260130T012212Z
LAST-MODIFIED:20260130T012440Z
UID:10000644-1772708400-1772728200@thesavvyshooter.com
SUMMARY:SKILLS BUILDER
DESCRIPTION: So\, you have your concealed carry license but your confidence in your shooting skills is a bit low? \nWell\, we have a series of on-the-range workshops just for YOU! \nThe series consists of 5 levels.  Each one requires more skill. \n\nStart out shooting paper plates at 15 feet distance\, at your own pace.\nNext\, learn to shoot with both the left- and right- trigger finger (but 2-handed).  \nAs you proceed through the remaining levels you will learn to shoot faster\, and shoot one-handed (left and right).\nWork through the 5 levels at your own pace.\nEach skill builder workshop is 2-3 hours long.\nShoot any caliber from .22  to .45.  You provide the ammo (150 – 200 rounds typically.)  \nWe have shot the 5 levels and can attest that if you finish all 5 levels you will be a much more skilled and confident shooter.\nEarn a distinctive medal when you complete a level.
URL:https://thesavvyshooter.com/upcoming-classes/mar5/
LOCATION:Albuquerque Shooting Range Park\, 16001 SHOOTING RANGE RD NW\, Albuquerque\, NM\, 87120\, United States
CATEGORIES:INTERMEDIATE SHOOTER,SKILLS BUILDER
ATTACH;FMTTYPE=image/png:https://thesavvyshooter.com/wp-content/uploads/2024/08/sbw.png
END:VEVENT
BEGIN:VEVENT
DTSTART;TZID=America/Denver:20260219T110000
DTEND;TZID=America/Denver:20260219T163000
DTSTAMP:20260423T014234
CREATED:20251217T010746Z
LAST-MODIFIED:20251220T024529Z
UID:10000579-1771498800-1771518600@thesavvyshooter.com
SUMMARY:SKILLS BUILDER
DESCRIPTION: So\, you have your concealed carry license but your confidence in your shooting skills is a bit low? \nWell\, we have a series of on-the-range workshops just for YOU! \nThe series consists of 5 levels.  Each one requires more skill. \n\nStart out shooting paper plates at 15 feet distance\, at your own pace.\nNext\, learn to shoot with both the left- and right- trigger finger (but 2-handed).  \nAs you proceed through the remaining levels you will learn to shoot faster\, and shoot one-handed (left and right).\nWork through the 5 levels at your own pace.\nEach skill builder workshop is 2-3 hours long.\nShoot any caliber from .22  to .45.  You provide the ammo (150 – 200 rounds typically.)  \nWe have shot the 5 levels and can attest that if you finish all 5 levels you will be a much more skilled and confident shooter.\nEarn a distinctive medal when you complete a level.
URL:https://thesavvyshooter.com/upcoming-classes/skills-builder-feb-19/
LOCATION:Albuquerque Shooting Range Park\, 16001 SHOOTING RANGE RD NW\, Albuquerque\, NM\, 87120\, United States
CATEGORIES:INTERMEDIATE SHOOTER,SKILLS BUILDER
ATTACH;FMTTYPE=image/png:https://thesavvyshooter.com/wp-content/uploads/2024/08/sbw.png
END:VEVENT
BEGIN:VEVENT
DTSTART;TZID=America/Denver:20260205T110000
DTEND;TZID=America/Denver:20260205T163000
DTSTAMP:20260423T014234
CREATED:20251217T010542Z
LAST-MODIFIED:20251220T024155Z
UID:10000578-1770289200-1770309000@thesavvyshooter.com
SUMMARY:SKILLS BUILDER
DESCRIPTION: So\, you have your concealed carry license but your confidence in your shooting skills is a bit low? \nWell\, we have a series of on-the-range workshops just for YOU! \nThe series consists of 5 levels.  Each one requires more skill. \n\nStart out shooting paper plates at 15 feet distance\, at your own pace.\nNext\, learn to shoot with both the left- and right- trigger finger (but 2-handed).  \nAs you proceed through the remaining levels you will learn to shoot faster\, and shoot one-handed (left and right).\nWork through the 5 levels at your own pace.\nEach skill builder workshop is 2-3 hours long.\nShoot any caliber from .22  to .45.  You provide the ammo (150 – 200 rounds typically.)  \nWe have shot the 5 levels and can attest that if you finish all 5 levels you will be a much more skilled and confident shooter.\nEarn a distinctive medal when you complete a level.
URL:https://thesavvyshooter.com/upcoming-classes/skills-builder-feb-5/
LOCATION:Albuquerque Shooting Range Park\, 16001 SHOOTING RANGE RD NW\, Albuquerque\, NM\, 87120\, United States
CATEGORIES:INTERMEDIATE SHOOTER,SKILLS BUILDER
ATTACH;FMTTYPE=image/png:https://thesavvyshooter.com/wp-content/uploads/2024/08/sbw.png
END:VEVENT
BEGIN:VEVENT
DTSTART;TZID=America/Denver:20260122T110000
DTEND;TZID=America/Denver:20260122T163000
DTSTAMP:20260423T014234
CREATED:20251203T181933Z
LAST-MODIFIED:20251220T023313Z
UID:10000565-1769079600-1769099400@thesavvyshooter.com
SUMMARY:SKILLS BUILDER
DESCRIPTION: So\, you have your concealed carry license but your confidence in your shooting skills is a bit low? \nWell\, we have a series of on-the-range workshops just for YOU! \nThe series consists of 5 levels.  Each one requires more skill. \n\nStart out shooting paper plates at 15 feet distance\, at your own pace.\nNext\, learn to shoot with both the left- and right- trigger finger (but 2-handed).  \nAs you proceed through the remaining levels you will learn to shoot faster\, and shoot one-handed (left and right).\nWork through the 5 levels at your own pace.\nEach skill builder workshop is 2-3 hours long.\nShoot any caliber from .22  to .45.  You provide the ammo (150 – 200 rounds typically.)  \nWe have shot the 5 levels and can attest that if you finish all 5 levels you will be a much more skilled and confident shooter.\nEarn a distinctive medal when you complete a level.
URL:https://thesavvyshooter.com/upcoming-classes/skills-builder-jan-22/
LOCATION:Albuquerque Shooting Range Park\, 16001 SHOOTING RANGE RD NW\, Albuquerque\, NM\, 87120\, United States
CATEGORIES:INTERMEDIATE SHOOTER,SKILLS BUILDER
ATTACH;FMTTYPE=image/png:https://thesavvyshooter.com/wp-content/uploads/2024/08/sbw.png
END:VEVENT
BEGIN:VEVENT
DTSTART;TZID=America/Denver:20260108T110000
DTEND;TZID=America/Denver:20260108T163000
DTSTAMP:20260423T014234
CREATED:20251203T181638Z
LAST-MODIFIED:20251220T022951Z
UID:10000563-1767870000-1767889800@thesavvyshooter.com
SUMMARY:SKILLS BUILDER
DESCRIPTION: So\, you have your concealed carry license but your confidence in your shooting skills is a bit low? \nWell\, we have a series of on-the-range workshops just for YOU! \nThe series consists of 5 levels.  Each one requires more skill. \n\nStart out shooting paper plates at 15 feet distance\, at your own pace.\nNext\, learn to shoot with both the left- and right- trigger finger (but 2-handed).  \nAs you proceed through the remaining levels you will learn to shoot faster\, and shoot one-handed (left and right).\nWork through the 5 levels at your own pace.\nEach skill builder workshop is 2-3 hours long.\nShoot any caliber from .22  to .45.  You provide the ammo (150 – 200 rounds typically.)  \nWe have shot the 5 levels and can attest that if you finish all 5 levels you will be a much more skilled and confident shooter.\nEarn a distinctive medal when you complete a level.
URL:https://thesavvyshooter.com/upcoming-classes/skills-builder-jan-8/
LOCATION:Albuquerque Shooting Range Park\, 16001 SHOOTING RANGE RD NW\, Albuquerque\, NM\, 87120\, United States
CATEGORIES:INTERMEDIATE SHOOTER,SKILLS BUILDER
ATTACH;FMTTYPE=image/png:https://thesavvyshooter.com/wp-content/uploads/2024/08/sbw.png
END:VEVENT
BEGIN:VEVENT
DTSTART;TZID=America/Denver:20251218T110000
DTEND;TZID=America/Denver:20251218T163000
DTSTAMP:20260423T014234
CREATED:20251110T211148Z
LAST-MODIFIED:20251110T211148Z
UID:10000557-1766055600-1766075400@thesavvyshooter.com
SUMMARY:SKILLS BUILDER
DESCRIPTION: So\, you have your concealed carry license but your confidence in your shooting skills is a bit low? \nWell\, we have a series of on-the-range workshops just for YOU! \nThe series consists of 5 levels.  Each one requires more skill. \n\nStart out shooting paper plates at 15 feet distance\, at your own pace.\nNext\, learn to shoot with both the left- and right- trigger finger (but 2-handed).  \nAs you proceed through the remaining levels you will learn to shoot faster\, and shoot one-handed (left and right).\nWork through the 5 levels at your own pace.\nEach skill builder workshop is 2-3 hours long.\nShoot any caliber from .22  to .45.  You provide the ammo (150 – 200 rounds typically.)  \nWe have shot the 5 levels and can attest that if you finish all 5 levels you will be a much more skilled and confident shooter.\nEarn a distinctive medal when you complete a level.
URL:https://thesavvyshooter.com/upcoming-classes/skills-builder-dec/
LOCATION:Albuquerque Shooting Range Park\, 16001 SHOOTING RANGE RD NW\, Albuquerque\, NM\, 87120\, United States
CATEGORIES:INTERMEDIATE SHOOTER,SKILLS BUILDER
ATTACH;FMTTYPE=image/jpeg:https://thesavvyshooter.com/wp-content/uploads/2024/10/SavvyShooter_Small-Logo2023.jpeg
END:VEVENT
BEGIN:VEVENT
DTSTART;TZID=America/Denver:20251120T110000
DTEND;TZID=America/Denver:20251120T163000
DTSTAMP:20260423T014234
CREATED:20251110T210705Z
LAST-MODIFIED:20251110T210835Z
UID:10000556-1763636400-1763656200@thesavvyshooter.com
SUMMARY:SKILLS BUILDER
DESCRIPTION: So\, you have your concealed carry license but your confidence in your shooting skills is a bit low? \nWell\, we have a series of on-the-range workshops just for YOU! \nThe series consists of 5 levels.  Each one requires more skill. \n\nStart out shooting paper plates at 15 feet distance\, at your own pace.\nNext\, learn to shoot with both the left- and right- trigger finger (but 2-handed).  \nAs you proceed through the remaining levels you will learn to shoot faster\, and shoot one-handed (left and right).\nWork through the 5 levels at your own pace.\nEach skill builder workshop is 2-3 hours long.\nShoot any caliber from .22  to .45.  You provide the ammo (150 – 200 rounds typically.)  \nWe have shot the 5 levels and can attest that if you finish all 5 levels you will be a much more skilled and confident shooter.\nEarn a distinctive medal when you complete a level.
URL:https://thesavvyshooter.com/upcoming-classes/skills-builder-nov/
LOCATION:Albuquerque Shooting Range Park\, 16001 SHOOTING RANGE RD NW\, Albuquerque\, NM\, 87120\, United States
CATEGORIES:INTERMEDIATE SHOOTER,SKILLS BUILDER
ATTACH;FMTTYPE=image/jpeg:https://thesavvyshooter.com/wp-content/uploads/2024/10/SavvyShooter_Small-Logo2023.jpeg
END:VEVENT
END:VCALENDAR